BEGIN:VCALENDAR
VERSION:2.0
PRODID:-//Event Design Collective - Webshop - ECPv6.15.20//NONSGML v1.0//EN
CALSCALE:GREGORIAN
METHOD:PUBLISH
X-WR-CALNAME:Event Design Collective - Webshop
X-ORIGINAL-URL:https://shop.edco.global
X-WR-CALDESC:Events for Event Design Collective - Webshop
REFRESH-INTERVAL;VALUE=DURATION:PT1H
X-Robots-Tag:noindex
X-PUBLISHED-TTL:PT1H
BEGIN:VTIMEZONE
TZID:America/Los_Angeles
BEGIN:DAYLIGHT
TZOFFSETFROM:-0800
TZOFFSETTO:-0700
TZNAME:PDT
DTSTART:20230312T100000
END:DAYLIGHT
BEGIN:STANDARD
TZOFFSETFROM:-0700
TZOFFSETTO:-0800
TZNAME:PST
DTSTART:20231105T090000
END:STANDARD
BEGIN:DAYLIGHT
TZOFFSETFROM:-0800
TZOFFSETTO:-0700
TZNAME:PDT
DTSTART:20240310T100000
END:DAYLIGHT
BEGIN:STANDARD
TZOFFSETFROM:-0700
TZOFFSETTO:-0800
TZNAME:PST
DTSTART:20241103T090000
END:STANDARD
BEGIN:DAYLIGHT
TZOFFSETFROM:-0800
TZOFFSETTO:-0700
TZNAME:PDT
DTSTART:20250309T100000
END:DAYLIGHT
BEGIN:STANDARD
TZOFFSETFROM:-0700
TZOFFSETTO:-0800
TZNAME:PST
DTSTART:20251102T090000
END:STANDARD
END:VTIMEZONE
BEGIN:VEVENT
DTSTART;TZID=America/Los_Angeles:20240712T090000
DTEND;TZID=America/Los_Angeles:20240712T170000
DTSTAMP:20260421T123112
CREATED:20230217T132839Z
LAST-MODIFIED:20240619T191907Z
UID:2033568-1720774800-1720803600@shop.edco.global
SUMMARY:EDC Level 1 🇺🇸 Seattle
DESCRIPTION:What is involved with Event Design using the EventCanvas Methodology and the EDC Program you ask? \nIs there a process that is practical\, generates innovative ideas\, takes the decision-makers goals into account\, and at the same time proves the value-creation potential of an event? \n \nThe Event Canvas™ Methodology provides you with answers to these and other questions with a practical approach. In this interactive workshop\, you will learn how to use the #EventCanvas to develop target group-specific events that focus on generating added value for all involved. \nThe method is based on the core principles of design thinking and supports the creative process without losing sight of the return on time\, resources and financial investments. \nJoin our Level 1 Certificate course to learn how to apply this methodology and join the community of change-makers embracing the process and contributing to the intentional design movement. \nTHE PROGRAM\nExperience being in an event design team. Apply the Event Design using the Event Canvas™ Methodology on a case study. Explore Empathy Mapping. Identify the CHANGE of behavior per stakeholder. Then FRAME the event design challenge by locking in all the design constraints. Articulate the change required and then prototype various event designs. Come full circle as a team having applied the Event Design using the Event Canvas methodology with 6 roles and the Facilitation Kit. \nYOU WILL LEARN TO\nApply the Empathy Map\, Event Canvas\, and Event Delta to analyze stakeholder behavior as a design team member\nPrototype Event Designs to articulate the narrative of the event design\nBe able to articulate the purpose of Event Design using the Event Canvas™ Methodology to demonstrate the value of an event \n \nSESSION TIMES:\n9:00-12:00: Welcome and Overview\n12:00-12:30 Lunch\n12:30-4:00 Design Sprints\n4:00-5:00 Team Presentations with Q&A \nTRAINER:\n \n\nDevon Montgomery Pasha\, CMP\, CED\nDirector United States\, Event Design Collective\nDevon Montgomery Pasha\, CMP\, CED is a passionate events professional with over 20 years in the industry.  She currently serves as the Director of North America for the Event Design Collective\, specializing in event design education and training in the United States and Canada. A believer in purposeful and mission-driven events\, Devon leverages design thinking and empathy-driven systems to design events that maximize impact. \n\nWant to book time to speak with Devon M. Pasha\, CMP\, CED before you commit? \nWant to learn about the different levels in the program? \nWant to watch testimonials from previous participants?
URL:https://shop.edco.global/event/edc-level-1-seattle/
LOCATION:Bell Harbor International Confernce Center\, 2211 Alaskan Way\, Pier 66\, Seattle\, WA\, 98121\, United States
CATEGORIES:EDC Level 1,EDC North America
ATTACH;FMTTYPE=image/png:https://shop.edco.global/wp-content/uploads/2020/08/Logo-EDC-L1-color.png
ORGANIZER;CN="Event Design Collective GmbH":MAILTO:sales@edco.global
END:VEVENT
END:VCALENDAR